BEGIN:VCALENDAR
VERSION:2.0
PRODID:http://www.koblenz-st-aposteln.de
BEGIN:VEVENT
UID:a678d664-017e-11f1-8342-0242ac11002b-1778749200000-de
DTSTAMP:20260204T040449Z
DTSTART:20260514T090000Z
DTEND:20260514T094500Z
SUMMARY;LANGUAGE=de:Heilige Messe Erstes Gebet der Pfingstnovene (s. Grußwort Pfarrbrief)
END:VEVENT
END:VCALENDAR
