BEGIN:VCALENDAR
VERSION:2.0
PRODID:http://www.koblenz-st-aposteln.de
BEGIN:VEVENT
UID:8acb3794-3ec1-11f1-a3e9-0242ac11002b-1778743800000-de
DTSTAMP:20260423T030720Z
DTSTART:20260514T073000Z
DTEND:20260514T081500Z
SUMMARY;LANGUAGE=de:Heilige Messe Erstes Gebet der Pfingstnovene (s. Grußwort Pfarrbrief)
END:VEVENT
END:VCALENDAR
