BEGIN:VCALENDAR
VERSION:2.0
PRODID:http://www.koblenz-st-aposteln.de
BEGIN:VEVENT
UID:69f19fb6-2412-11f1-a21a-0242ac11002b-1779552000000-de
DTSTAMP:20260320T040813Z
DTSTART:20260523T160000Z
DTEND:20260523T164500Z
SUMMARY;LANGUAGE=de:Heilige Messe Letztes Gebet der Pfingstnovene (s. Grußwort Pfarrbrief)
END:VEVENT
END:VCALENDAR
