BEGIN:VCALENDAR
VERSION:2.0
PRODID:http://www.koblenz-st-aposteln.de
BEGIN:VEVENT
UID:42d63e7b-3d2f-11f1-a3e9-0242ac11002b-1778844600000-de
DTSTAMP:20260421T030741Z
DTSTART:20260515T113000Z
DTEND:20260515T123000Z
SUMMARY;LANGUAGE=de:Trauerfeier für Rosemarie Neumann, anschließend die Beisetzung auf dem Hauptfriedhof (mit Begräbnisleiter Jörg Stein)
END:VEVENT
END:VCALENDAR
